BEGIN:VCALENDAR
VERSION:2.0
PRODID:-//media.volgmed.ru//Events//RU
CALSCALE:GREGORIAN
METHOD:PUBLISH
BEGIN:VEVENT
UID:820-5@media.volgmed.ru
DTSTAMP:20260420T073645Z
SUMMARY: 84-я Международная научно-практическая конференция молодых учёных и студентов «Актуальные проблемы экспериментальной и клинической медицины»
DTSTART;TZID=Europe/Moscow:20260422T100000
DTEND;TZID=Europe/Moscow:20260422T110000
DESCRIPTION:Тип: Конференции\nФормат: Очный\nВремя: 10:00\n\nМероприятие состоится в рамках VIII Всероссийского медицинского форума «Consilium Medicum».\n \n Конференция пройдет с 22 по 24 апреля 2026 года в Волгоградском государственном медицинском университете (г. Волгоград).\n \n При оформлении презентации используйте брендбук по ссылке: cloud.mail.ru/public/RHN1/TW38U7qGV&nbsp\;\n\nС программой конференции можно ознакомиться по ссылке:&nbsp\;vk.com/wall-8391494_8971
LOCATION:Другое
URL:http://media.volgmed.ru/events/84-ya-mezhdunarodnaya-nauchno-prakticheskaya-konferentsiya-molodykh-uchyenykh-i-studentov-aktualnye-
BEGIN:VALARM
TRIGGER:-PT30M
ACTION:DISPLAY
DESCRIPTION:Reminder
END:VALARM
END:VEVENT
END:VCALENDAR
