BEGIN:VCALENDAR
VERSION:2.0
PRODID:-//media.volgmed.ru//Events//RU
CALSCALE:GREGORIAN
METHOD:PUBLISH
BEGIN:VEVENT
UID:822-5@media.volgmed.ru
DTSTAMP:20260420T073645Z
SUMMARY:VIII Всероссийский медицинский форум «Consilium Medicum»
DTSTART;TZID=Europe/Moscow:20260421T100000
DTEND;TZID=Europe/Moscow:20260421T110000
DESCRIPTION:Тип: Конференции\nВремя: 10:00\n\nС 21 по 24 апреля 2026 года в Волгоградском государственном медицинском университете пройдет масштабное событие для студентов и молодых ученых — VIII Всероссийский медицинский форум «Consilium Medicum». \n \n Первый день форума\, 21 апреля\, начнется с регистрации иногородних гостей\, после чего состоится торжественное открытие и открытый диалог с ведущими экспертами. Затем участники смогут отправиться на экскурсию на Мамаев Курган\, а вечером их ждет интеллектуальный турнир по «Своей игре» в современном коворкинг-пространстве LOFT ВолгГМУ.\n \n 22 апреля в рамках форума пройдут секции 84-й международной научно-практической конференцией молодых ученых и студентов «Актуальные проблемы экспериментальной и клинической медицины».\, а также турнир по медицинским дебатам\, где каждый сможет проверить свои навыки аргументации и публичной полемики.\n \n 23 апреля\, помимо продолжения работы конференции\, состоится межрегиональная научно-практическая конференция «Юность и здоровье – 2026». Завершит этот день турнир по игре «Что? Где? Когда?» — отличная возможность проявить эрудицию и командный дух.\n \n Заключительный день\, 24 апреля\, будет посвящен финальным секциям конференции и торжественному закрытию форума в актовом зале ВолгГМУ.\n \n &nbsp\;Главные возможности для участников:\n ✅ Выступить с докладом на международной конференции.\n ✅ Обсудить актуальные вопросы медицины с коллегами из разных регионов.\n ✅ Принять участие в интеллектуальных турнирах и дебатах.\n ✅ Посетить экскурсию по историческим местам Волгограда.\n ✅ Завести полезные знакомства и обменяться опытом.\n \n Присоединяйтесь к форуму «Consilium Medicum» – месту\, где рождаются новые идеи\, знания и профессиональные связи!\n\nСледите за анонсами в официальной группе НОМУС ВолгГМУ в ВКонтакте.
LOCATION:Другое
URL:http://media.volgmed.ru/events/viii-vserossiyskiy-meditsinskiy-forum-consilium-medicum
BEGIN:VALARM
TRIGGER:-PT30M
ACTION:DISPLAY
DESCRIPTION:Reminder
END:VALARM
END:VEVENT
END:VCALENDAR
