BEGIN:VCALENDAR
VERSION:2.0
PRODID:-//media.volgmed.ru//Events//RU
CALSCALE:GREGORIAN
METHOD:PUBLISH
BEGIN:VEVENT
UID:833-5@media.volgmed.ru
DTSTAMP:20260421T082511Z
SUMMARY:Квиз Интернационального клуба ЭтноМед «От Баку до Стамбула»
DTSTART;TZID=Europe/Moscow:20260417T170000
DTEND;TZID=Europe/Moscow:20260417T180000
DESCRIPTION:Тип: Внеучебные мероприятия\nФормат: Очный\nВремя: 17:00\n\nОт Баку до Стамбула - одно сердце\, одна история\, одна атмосфера&nbsp\;&nbsp\;\n\nПогрузись в вечер\, где встречаются традиции\, дружба и яркие эмоции. Тебя ждёт живое знакомство\, интерактивный квиз\, уютное чаепитие и зажигательная дискотека — всё\, чтобы почувствовать силу единства “Bir millet – iki dövlət”. \n\nЭто не просто мероприятие — это место\, где появляются новые знакомства\, тёплые воспоминания и ощущение дома вдали от дома. Не упусти шанс стать частью этого особенного вечера
LOCATION:Коворкинг-пространство\, ул. КИМ\, 18
URL:http://media.volgmed.ru/events/kviz-internatsionalnogo-kluba-etnomed-ot-baku-do-stambula
BEGIN:VALARM
TRIGGER:-PT30M
ACTION:DISPLAY
DESCRIPTION:Reminder
END:VALARM
END:VEVENT
END:VCALENDAR
