BEGIN:VCALENDAR
VERSION:2.0
PRODID:-//media.volgmed.ru//Events//RU
CALSCALE:GREGORIAN
METHOD:PUBLISH
BEGIN:VEVENT
UID:845-5@media.volgmed.ru
DTSTAMP:20260420T073645Z
SUMMARY:«Алгоритмы и персонифицированные подходы в педиатрии»
DTSTART;TZID=Europe/Moscow:20260423T100000
DTEND;TZID=Europe/Moscow:20260424T170000
DESCRIPTION:Тип: Конференции\nВремя: 10:00-17:00\n\nIV межрегиональная междисциплинарная научно-практическая конференция с международным участием «Алгоритмы и персонифицированные подходы в педиатрии»\nДата проведения: 23.04.2026–24.04.2026\nФормат мероприятия: смешанный\nМесто проведения: Центр электронного медицинского образования федерального государственного бюджетного образовательного учреждения высшего образования «Волгоградский государственный медицинский университет» Министерства здравоохранения Российской Федерации\, г. Волгоград\, ул. Бурейская\, 1Б.\nПлатформа проведения: https://mts-link.ru/&nbsp\;&nbsp\; \nНачало регистрации: 09 ч 00 мин\nНачало конференции: 10 ч 00 мин \nКонференция посвящена актуальным вопросам диагностики\, лечения и профилактики заболеваний у детей различных возрастных групп\, современным алгоритмам назначения фармакотерапии в свете действующих и обновленных клинических рекомендаций\, применению персонифицированных подходов в педиатрии\, правовым аспектам организации и особенностям оказания медицинской помощи детскому населению.\nЦелевая аудитория: врачи-педиатры\, врачи-неонатологи\, врачи-аллергологи-иммунологи\, врачи общей врачебной практики &#40\;семейной медицины&#41\;\, врачи-инфекционисты\, врачи-пульмонологи\, врачи-клинические фармакологи\, врачи-нефрологи\, врачи-эндокринологи\, врачи-оториноларингологи\, врачи-гастроэнтерологи.
LOCATION:ЦЭМО\, улица Бурейская\, 1Б
URL:http://media.volgmed.ru/events/algoritmy-i-personifitsirovannye-podkhody-v-pediatrii
BEGIN:VALARM
TRIGGER:-PT30M
ACTION:DISPLAY
DESCRIPTION:Reminder
END:VALARM
END:VEVENT
END:VCALENDAR
