BEGIN:VCALENDAR
VERSION:2.0
PRODID:-//media.volgmed.ru//Events//RU
CALSCALE:GREGORIAN
METHOD:PUBLISH
BEGIN:VEVENT
UID:870-5@media.volgmed.ru
DTSTAMP:20260421T113906Z
SUMMARY: IV Всероссийская Олимпиада по английскому языку
DTSTART;TZID=Europe/Moscow:20260420T100000
DTEND;TZID=Europe/Moscow:20260420T110000
DESCRIPTION:Тип: Конференции\nФормат: Онлайн\nВремя: 10:00\n\nКафедра иностранных языков ПМФИ - филиала ВолгГМУ приглашает принять участие в IV Всероссийской олимпиаде по английскому языку.\n\nК участию в Олимпиаде приглашаются обучающиеся медицинских и фармацевтических образовательных учреждений Российской Федерации\, не являющиеся носителями английского языка.\n \nДля участия в олимпиаде необходимо пройти регистрацию до 18 апреля 2026 г. включительно по ссылке: forms.yandex.ru/u/69d3e601...\n \nПодробная информация об этапах олимпиады и требованиях для ее прохождения в «Положении об олимпиаде».
LOCATION:Другое
URL:http://media.volgmed.ru/events/iv-vserossiyskaya-olimpiada-po-angliyskomu-yazyku
BEGIN:VALARM
TRIGGER:-PT30M
ACTION:DISPLAY
DESCRIPTION:Reminder
END:VALARM
END:VEVENT
END:VCALENDAR
