BEGIN:VCALENDAR
VERSION:2.0
PRODID:-//media.volgmed.ru//Events//RU
CALSCALE:GREGORIAN
METHOD:PUBLISH
BEGIN:VEVENT
UID:871-5@media.volgmed.ru
DTSTAMP:20260421T140830Z
SUMMARY:IV внутривузовская интерактивно-интеллектуальная игра «Зуб мудрости»
DTSTART;TZID=Europe/Moscow:20260421T100000
DTEND;TZID=Europe/Moscow:20260421T110000
DESCRIPTION:Тип: Университет\nВремя: 10:00\n\nIV внутривузовская интерактивно-интеллектуальная игра «Зуб мудрости»\n\nТри игры позади — начинаем четвертую. Снова живое общение\, нестандартные задачи и полное погружение в формат\, где интерактив важнее сухой эрудиции.\n\nДата: 21 апреля\nВремя: 10:00 &#40\;сбор участников — за 5–10 минут до старта&#41\;\n Место: Правый лекционный зал\n\nФормат:\n\nзадания на логику\, скорость реакции и взаимодействие с залом\;\nникаких лекций — только живая игра!\n\nДля кого: для всех\, кто хочет проверить себя и провести утро с пользой и юмором.\n\nОтдельная благодарность нашим спонсорам: бренду премиальных зубных паст EMRA \nemra.life\n\nСкорее регистрируйся по ссылке ниже \nforms.yandex.ru/u/69cfb838...
LOCATION:Учебный корпус № 1 (г. Пятигорск\, пр-кт Калинина\, 11)
URL:http://media.volgmed.ru/events/iv-vnutrivuzovskaya-interaktivno-intellektualnaya-igra-zub-mudrosti
BEGIN:VALARM
TRIGGER:-PT30M
ACTION:DISPLAY
DESCRIPTION:Reminder
END:VALARM
END:VEVENT
END:VCALENDAR
