BEGIN:VCALENDAR
VERSION:2.0
PRODID:-//media.volgmed.ru//Events//RU
CALSCALE:GREGORIAN
METHOD:PUBLISH
BEGIN:VEVENT
UID:872-5@media.volgmed.ru
DTSTAMP:20260421T115127Z
SUMMARY:День открытых дверей
DTSTART;TZID=Europe/Moscow:20260418T120000
DTEND;TZID=Europe/Moscow:20260418T130000
DESCRIPTION:Тип: Университет\nФормат: Очный\nВремя: 12:00\n\n18 апреля в 12:00 ч. Пятигорский медико-фармацевтический институт – филиал ВолгГМУ Минздрава России приглашает учащихся старших классов на день открытых дверей\n \n В программе:\n знакомство с институтом\n общение с преподавателями\n мастер-классы\n подробная информация о направлениях подготовки\n \n Высшее образование \n (Специалитет):\n Фармация\n Лечебное дело\n Медицинская биохимия\n Стоматология\n \n (Бакалавриат)\n Менеджмент\n \n Среднее профессиональное образование \n (после 11 класса):\n Фармация\n Лечебное дело\n Сестринское дело\n Стоматологическое дело\n Стоматология ортопедическая\n Технология индустрии красоты\n Медицинский администратор\n \n Абитуриентам предоставляется возможность узнать всё о поступлении и получить информацию о качественном высшем и среднем профессиональном образовании.\n \n Адрес проведения: г. Пятигорск\, пр-кт&nbsp\;Калинина\, 11\n Зарегистрироваться можно по ссылке
LOCATION:Учебный корпус № 1 (г. Пятигорск\, пр-кт Калинина\, 11)
URL:http://media.volgmed.ru/events/den-otkrytykh-dverey
BEGIN:VALARM
TRIGGER:-PT30M
ACTION:DISPLAY
DESCRIPTION:Reminder
END:VALARM
END:VEVENT
END:VCALENDAR
