BEGIN:VCALENDAR
VERSION:2.0
PRODID:-//media.volgmed.ru//Events//RU
CALSCALE:GREGORIAN
METHOD:PUBLISH
BEGIN:VEVENT
UID:923-5@media.volgmed.ru
DTSTAMP:20260421T133012Z
SUMMARY:«Изобретение рая. Послевоенный Сталинград в живописи  Виктора Лосева»
DTSTART;VALUE=DATE:20260427
DTEND;VALUE=DATE:20260428
DESCRIPTION:Тип: Внеучебные мероприятия\nФормат: Очный\nВремя: 11.00-12.00\n\n27 апреля в 11.00 в читальном зале Библиотечно-издательского центра ВолгГМУ &#40\;главный корпус на пл. Павших борцов\, 1&#41\; состоится лекция-экскурсия «Изобретение рая. Послевоенный Сталинград в живописи Виктора Лосева».\nК 81-й годовщине Победы в Великой Отечественной войне и к 100-летию волгоградского художника Виктора Николаевича Лосева лекцию-экскурсию проведёт Дмитрий Грушевский\, музеолог\, автор исследовательской\, выставочной и просветительской программы «Извините\, Вы не видели Лосева?». \nНа лекции-экскурсии\, вы услышите увлекательную историю о том\, как художник Виктор Лосев создавал живописную летопись строительства нового города на месте разрушенного во время войны Сталинграда.\nГород в послевоенные годы практически строился заново – его планировка была не связана с довоенной историей. Чтобы запечатлеть рождение нового города в Сталинград были приглашены выпускники художественных вузов Ленинграда и Москвы. Коренной сталинградец Виктор Лосев тоже влился в это движение\, но пошел своим путем: создавал не монументальные полотна для интерьеров общественных зданий и музеев\, а небольшие по формату произведения для домов и квартир горожан.\nГород\, в основном\, был разрушен. В теплое время студенты и школьники постигали знания в парках и на берегу Волги. Взрослые там же играли в домино\, шахматы и шашки\, по выходным устраивали застолья. Жизнь была на виду. Домой\, если руины уместно назвать домами\, приходили только ночевать.\nХудожник спрашивал у заинтересовавших его горожан разрешения запечатлеть их. В среднем\, на этюд уходило пять минут\, на портрет – тридцать. Созданные произведения расходились по городу\, украшая как разрушенные\, так и новые\, только что построенные\, жилища.\nНа этюдах Виктора Лосева запечатлены счастливые люди в возрождающемся&nbsp\;&nbsp\;солнечном городе.
LOCATION:Читальный зал БИЦ
URL:http://media.volgmed.ru/events/izobretenie-raya-poslevoennyy-stalingrad-v-zhivopisi-viktora-loseva
BEGIN:VALARM
TRIGGER:-PT30M
ACTION:DISPLAY
DESCRIPTION:Reminder
END:VALARM
END:VEVENT
END:VCALENDAR
