BEGIN:VCALENDAR
VERSION:2.0
PRODID:-//media.volgmed.ru//Events//RU
CALSCALE:GREGORIAN
METHOD:PUBLISH
BEGIN:VEVENT
UID:933-5@media.volgmed.ru
DTSTAMP:20260421T122223Z
SUMMARY:«Нохчийн мотт — сан деган хазна |«Чеченский язык — сокровище моего сердца»
DTSTART;TZID=Europe/Moscow:20260424T170000
DTEND;TZID=Europe/Moscow:20260424T180000
DESCRIPTION:Тип: Внеучебные мероприятия\nФормат: Очный\nВремя: 17:00\n\nПриглашаем вас на праздник\, посвящённый Дню чеченского языка.&nbsp\;&nbsp\;Погрузитесь в вечер\, где оживают традиции предков\, звенит мелодия родной речи и царит атмосфера настоящего единства. Вас ждут: яркие выступления\, национальные игры\, увлекательный квиз о чеченском языке\, ароматное чаепитие с лепёшками и зажигательная лезгинка — всё\, чтобы вы почувствовали гордость за фразу: «Нохчийн мотт — сан деган хазна |«Чеченский язык — сокровище моего сердца»
LOCATION:Коворкинг-пространство\, ул. КИМ\, 18
URL:http://media.volgmed.ru/events/nokhchiyn-mott-san-degan-khazna-chechenskiy-yazyk-sokrovishche-moego-serdtsa
BEGIN:VALARM
TRIGGER:-PT30M
ACTION:DISPLAY
DESCRIPTION:Reminder
END:VALARM
END:VEVENT
END:VCALENDAR
