BEGIN:VCALENDAR
VERSION:2.0
PRODID:-//media.volgmed.ru//Events//RU
CALSCALE:GREGORIAN
METHOD:PUBLISH
BEGIN:VEVENT
UID:934-5@media.volgmed.ru
DTSTAMP:20260422T161023Z
SUMMARY:Международный исторический диктант «Диктант Победы»
DTSTART;TZID=Europe/Moscow:20260424T100000
DTEND;TZID=Europe/Moscow:20260424T110000
DESCRIPTION:Тип: Внеучебные мероприятия\nФормат: Очный\nВремя: 10:00\n\n«Диктант Победы» — это одна из самых масштабных международных просветительских акций\, приуроченная к празднованию Дня Победы. Каждый желающий может бесплатно проверить и освежить свои знания о событиях Великой Отечественной войны\, её героях\, ключевых битвах и уроках той страшной войны.\n\nВ 2026 году акция проходит в особом контексте. Она будет посвящена 85-летию начала Великой Отечественной войны и 130-летию со дня рождения великого полководца\, маршала Советского Союза Георгия Константиновича Жукова. Поэтому вопросы диктанта в этом году уделяют особое внимание его жизни\, полководческому таланту\, решающим операциям под его командованием и вкладу в Победу. Кроме того\, в заданиях по традиции будут отражены и современные параллели — события специальной военной операции.\n\nМероприятие состоится 24 апреля 2026 года в лекционной аудитории №5 главного корпуса ВолгГМУ.
LOCATION:Другое
URL:http://media.volgmed.ru/events/mezhdunarodnyy-istoricheskiy-diktant-diktant-pobedy
BEGIN:VALARM
TRIGGER:-PT30M
ACTION:DISPLAY
DESCRIPTION:Reminder
END:VALARM
END:VEVENT
END:VCALENDAR
