BEGIN:VCALENDAR
VERSION:2.0
PRODID:-//media.volgmed.ru//Events//RU
CALSCALE:GREGORIAN
METHOD:PUBLISH
BEGIN:VEVENT
UID:940-5@media.volgmed.ru
DTSTAMP:20260422T161023Z
SUMMARY:«Хирургия в эндокринологии: где дружба\, там и победа»
DTSTART;TZID=Europe/Moscow:20260425T100000
DTEND;TZID=Europe/Moscow:20260425T163000
DESCRIPTION:Тип: Конференции\nФормат: Смешанный\nВремя: 10:00-16:30\n\nМежрегиональная научно-практическая конференция «Хирургия в эндокринологии: где дружба\, там и победа»\n Дата проведения: 25.04.2026\n Формат мероприятия: смешанный\n Сайт трансляции: https://rutube.ru/channel/46699755/\n Место проведения: Акционерное общество медицинское научно-производственное объединение «Клиника «Движение»\, ул. Рионская\, д. 2\, г. Волгоград\n Начало регистрации: 09 ч 00 мин\n Начало конференции: 10 ч 00 мин \n \n Конференция посвящена особенностями лечения пациентов с заболеваниями щитовидной железы\, сахарного диабета 2 типа\, морбидного ожирения в соответствии Национальными клиническими рекомендациями. Информирование о современных трендах в этом разделе медицины\, начиная от ранней диагностики\, скрининга и заканчивая современными способами хирургической коррекции этих заболеваний. \n \n По итогам участия в конференции слушатели научатся осуществлять эффективное ведение больных этих нозологических групп на всех этапах лечения\, принимать оптимальные решения о выборе современных способов оказания медицинской помощи.\n Программа мероприятия предполагает плотный график\, включающий в себя операции в рамках «живой хирургии» с комментариями опытных экспертов\, а также широкий перечень теоретических тем для обсуждения.\nЦелевая аудитория: врачи-хирурги\, эндокринологи\, анестезиологи.
LOCATION:Другое
URL:http://media.volgmed.ru/events/khirurgiya-v-endokrinologii-gde-druzhba-tam-i-pobeda
BEGIN:VALARM
TRIGGER:-PT30M
ACTION:DISPLAY
DESCRIPTION:Reminder
END:VALARM
END:VEVENT
END:VCALENDAR
